BEGIN:VCALENDAR
VERSION:2.0
PRODID:-//Kulvio Event Calendar//kulvio.de//
CALSCALE:GREGORIAN
METHOD:PUBLISH
BEGIN:VEVENT
SUMMARY:Herbstmarkt Nidda — Samstag
DTSTART:20260905T120000Z
DTEND:20260905T210000Z
DTSTAMP:20260421T035200Z
UID:kulvio-event-3042@kulvio.de
CATEGORIES:Saisonmarkt,Stadtfest
CREATED:20260419T161629Z
DESCRIPTION:Am Samstag geht der Niddaer Herbstmarkt in die zweite Runde mi
 t vollem Programm auf dem Festplatz. Fahrgeschäfte\, Marktstände und gas
 tronomische Angebote sorgen für Unterhaltung und Genuss. Der Samstag ist 
 erfahrungsgemäß der bestbesuchte Tag des viertägigen Herbstmarkts.
GEO:50.414415;9.00936
LAST-MODIFIED:20260419T163353Z
LOCATION:Festplatz Bürgerhaus\, Hinter dem Brauhaus\, 63667\, Nidda
STATUS:CONFIRMED
URL:https://kulvio.de/event/3042
END:VEVENT
END:VCALENDAR
