BEGIN:VCALENDAR
VERSION:2.0
PRODID:-//Kulvio Event Calendar//kulvio.de//
CALSCALE:GREGORIAN
METHOD:PUBLISH
BEGIN:VEVENT
SUMMARY:Bauernmarkt Bad Salzhausen — September
DTSTART:20260906T080000Z
DTEND:20260906T150000Z
DTSTAMP:20260421T042500Z
UID:kulvio-event-3043@kulvio.de
CATEGORIES:Wochenmarkt
CREATED:20260419T161629Z
DESCRIPTION:Der monatliche Bauernmarkt in Bad Salzhausen bietet im Septemb
 er herbstliche regionale Produkte und Spezialitäten im Unteren Kurpark. D
 irektvermarkter aus der Wetterau verkaufen frische Erzeugnisse\, Handwerks
 waren und saisonale Besonderheiten. Der Markt ist bei Einheimischen und Ku
 rgästen gleichermaßen beliebt.
GEO:50.42204;8.99969
LAST-MODIFIED:20260419T163353Z
LOCATION:Kurstraße\, 63667\, Nidda
STATUS:CONFIRMED
URL:https://kulvio.de/event/3043
END:VEVENT
END:VCALENDAR
