BEGIN:VCALENDAR
VERSION:2.0
PRODID:-//Kulvio Event Calendar//kulvio.de//
CALSCALE:GREGORIAN
METHOD:PUBLISH
BEGIN:VEVENT
SUMMARY:Herbstmarkt Nidda — Sonntag
DTSTART:20260906T090000Z
DTEND:20260906T210000Z
DTSTAMP:20260421T034734Z
UID:kulvio-event-3044@kulvio.de
CATEGORIES:Saisonmarkt,Stadtfest
CREATED:20260419T161629Z
DESCRIPTION:Der Sonntag des Niddaer Herbstmarkts bietet ein abwechslungsre
 iches Programm für Familien und Besucher aller Altersgruppen. Neben den F
 ahrgeschäften und Marktständen auf dem Festplatz locken kulinarische Spe
 zialitäten aus der Region. Der Herbstmarkt ist ein fester Bestandteil des
  Veranstaltungskalenders der Stadt Nidda.
GEO:50.414415;9.00936
LAST-MODIFIED:20260419T163353Z
LOCATION:Festplatz Bürgerhaus\, Hinter dem Brauhaus\, 63667\, Nidda
STATUS:CONFIRMED
URL:https://kulvio.de/event/3044
END:VEVENT
END:VCALENDAR
