BEGIN:VCALENDAR
VERSION:2.0
PRODID:-//Kulvio Event Calendar//kulvio.de//
CALSCALE:GREGORIAN
METHOD:PUBLISH
BEGIN:VEVENT
SUMMARY:Herbstmarkt Nidda — Montag
DTSTART:20260907T120000Z
DTEND:20260907T200000Z
DTSTAMP:20260421T034512Z
UID:kulvio-event-3045@kulvio.de
CATEGORIES:Saisonmarkt,Stadtfest
CREATED:20260419T161629Z
DESCRIPTION:Am Montag klingt der viertägige Niddaer Herbstmarkt auf dem F
 estplatz am Bürgerhaus gemütlich aus. Der letzte Markttag bietet noch ei
 nmal alle Attraktionen und Stände für einen Abschlussbesuch. Der Herbstm
 arkt verabschiedet sich bis zum nächsten Jahr.
GEO:50.414415;9.00936
LAST-MODIFIED:20260419T163353Z
LOCATION:Festplatz Bürgerhaus\, Hinter dem Brauhaus\, 63667\, Nidda
STATUS:CONFIRMED
URL:https://kulvio.de/event/3045
END:VEVENT
END:VCALENDAR
