BEGIN:VCALENDAR
VERSION:2.0
PRODID:-//Kulvio Event Calendar//kulvio.de//
CALSCALE:GREGORIAN
METHOD:PUBLISH
BEGIN:VEVENT
SUMMARY:Bauernmarkt Bad Salzhausen — Oktober
DTSTART:20261004T080000Z
DTEND:20261004T150000Z
DTSTAMP:20260421T042428Z
UID:kulvio-event-3046@kulvio.de
CATEGORIES:Wochenmarkt
CREATED:20260419T161629Z
DESCRIPTION:Der Bauernmarkt in Bad Salzhausen bietet im Oktober herbstlich
 e Genüsse und regionale Produkte im Unteren Kurpark. Erzeuger aus der Wet
 terau präsentieren ihr saisonales Angebot an frischen Waren\, Handwerkspr
 odukten und kulinarischen Spezialitäten. Der Markt findet wie gewohnt am 
 ersten Sonntag des Monats statt.
GEO:50.42204;8.99969
LAST-MODIFIED:20260419T163353Z
LOCATION:Kurstraße\, 63667\, Nidda
STATUS:CONFIRMED
URL:https://kulvio.de/event/3046
END:VEVENT
END:VCALENDAR
