BEGIN:VCALENDAR
VERSION:2.0
PRODID:-//Kulvio Event Calendar//kulvio.de//
CALSCALE:GREGORIAN
METHOD:PUBLISH
BEGIN:VEVENT
SUMMARY:Niddaer Weihnachtsmarkt — Samstag
DTSTART:20261128T100000Z
DTEND:20261128T210000Z
DTSTAMP:20260421T035115Z
UID:kulvio-event-3047@kulvio.de
CATEGORIES:Weihnachtsmarkt
CREATED:20260419T161629Z
DESCRIPTION:Der traditionelle Weihnachtsmarkt öffnet am ersten Adventswoc
 henende auf dem historischen Marktplatz in der Niddaer Altstadt. Kunsthand
 werk\, regionale Spezialitäten und festliche Dekorationen schaffen eine g
 emütliche Atmosphäre in den engen Gassen. Besucher genießen Glühwein\,
  Punsch und weihnachtliche Köstlichkeiten.
GEO:50.412382;9.007757
LAST-MODIFIED:20260419T163353Z
LOCATION:Markt\, 63667\, Nidda
STATUS:CONFIRMED
URL:https://kulvio.de/event/3047
END:VEVENT
END:VCALENDAR
