BEGIN:VCALENDAR
VERSION:2.0
PRODID:-//Kulvio Event Calendar//kulvio.de//
CALSCALE:GREGORIAN
METHOD:PUBLISH
BEGIN:VEVENT
SUMMARY:Niddaer Weihnachtsmarkt — Sonntag
DTSTART:20261129T100000Z
DTEND:20261129T180000Z
DTSTAMP:20260421T042428Z
UID:kulvio-event-3048@kulvio.de
CATEGORIES:Weihnachtsmarkt
CREATED:20260419T161629Z
DESCRIPTION:Am Sonntag lädt der Niddaer Weihnachtsmarkt erneut auf den Ma
 rktplatz der Altstadt ein. Neben den Ständen mit Handwerkskunst und regio
 nalen Spezialitäten gibt es ein weihnachtliches Rahmenprogramm für die g
 anze Familie. Der Weihnachtsmarkt bildet den festlichen Auftakt der Advent
 szeit in Nidda.
GEO:50.412382;9.007757
LAST-MODIFIED:20260419T163353Z
LOCATION:Markt\, 63667\, Nidda
STATUS:CONFIRMED
URL:https://kulvio.de/event/3048
END:VEVENT
END:VCALENDAR
