BEGIN:VCALENDAR
VERSION:2.0
PRODID:-//Kulvio Event Calendar//kulvio.de//
CALSCALE:GREGORIAN
METHOD:PUBLISH
BEGIN:VEVENT
SUMMARY:Snatam Kaur — 25 Jahre Mantras
DTSTART:20260424T170000Z
DTEND:20260424T180000Z
DTSTAMP:20260421T041937Z
UID:kulvio-event-3049@kulvio.de
CATEGORIES:Konzert
CREATED:20260419T162302Z
DESCRIPTION:Die Mantra-Künstlerin Snatam Kaur gastiert mit ihrem Jubiläu
 msprogramm 25 Jahre Mantras in der Hugenottenhalle Neu-Isenburg. Das Konze
 rt verbindet meditative Klänge mit spiritueller Musik und feiert ein Vier
 teljahrhundert musikalisches Schaffen. Snatam Kaur gilt als eine der bekan
 ntesten Interpreten meditativer Musik weltweit.
GEO:50.049785;8.696724
LAST-MODIFIED:20260419T163353Z
LOCATION:Hugenottenhalle\, Frankfurter Straße 152\, 63263\, Neu-Isenburg
STATUS:CONFIRMED
URL:https://kulvio.de/event/3049
END:VEVENT
END:VCALENDAR
