BEGIN:VCALENDAR
VERSION:2.0
PRODID:-//Kulvio Event Calendar//kulvio.de//
CALSCALE:GREGORIAN
METHOD:PUBLISH
BEGIN:VEVENT
SUMMARY:Linedance- und Countrynight mit Purling Brooks Band
DTSTART:20260425T170000Z
DTEND:20260425T180000Z
DTSTAMP:20260421T042307Z
UID:kulvio-event-3050@kulvio.de
CATEGORIES:Konzert,Tanz
CREATED:20260419T162302Z
DESCRIPTION:Die Purling Brooks Band lädt zur Linedance- und Countrynight 
 in die Hugenottenhalle Neu-Isenburg ein. Der Abend bietet Country-Musik zu
 m Tanzen und Mitsingen und richtet sich an Linedance-Fans und alle\, die e
 inen geselligen Abend mit amerikanischer Musik erleben möchten. Einlass i
 st ab 19 Uhr.
GEO:50.049785;8.696724
LAST-MODIFIED:20260419T163353Z
LOCATION:Hugenottenhalle\, Frankfurter Straße 152\, 63263\, Neu-Isenburg
STATUS:CONFIRMED
URL:https://kulvio.de/event/3050
END:VEVENT
END:VCALENDAR
