BEGIN:VCALENDAR
VERSION:2.0
PRODID:-//Kulvio Event Calendar//kulvio.de//
CALSCALE:GREGORIAN
METHOD:PUBLISH
BEGIN:VEVENT
SUMMARY:Tom Gaebel — Kleiner Junge\, große Reise Tour 2026
DTSTART:20260426T170000Z
DTEND:20260426T180000Z
DTSTAMP:20260421T043143Z
UID:kulvio-event-3051@kulvio.de
CATEGORIES:Konzert
CREATED:20260419T162302Z
DESCRIPTION:Der Entertainer Tom Gaebel gastiert mit seiner Tour Kleiner Ju
 nge\, große Reise in der Hugenottenhalle Neu-Isenburg. Gaebel verbindet S
 wing\, Jazz und Pop zu einem energiegeladenen Bühnenprogramm und gilt als
  einer der charismatischsten Live-Entertainer Deutschlands. Die Tour marki
 ert einen besonderen Meilenstein in seiner Karriere.
GEO:50.049785;8.696724
LAST-MODIFIED:20260419T163353Z
LOCATION:Hugenottenhalle\, Frankfurter Straße 152\, 63263\, Neu-Isenburg
STATUS:CONFIRMED
URL:https://kulvio.de/event/3051
END:VEVENT
END:VCALENDAR
