BEGIN:VCALENDAR
VERSION:2.0
PRODID:-//Kulvio Event Calendar//kulvio.de//
CALSCALE:GREGORIAN
METHOD:PUBLISH
BEGIN:VEVENT
SUMMARY:Afterworkparty in der Hugenottenhalle
DTSTART:20260430T160000Z
DTEND:20260430T170000Z
DTSTAMP:20260421T042118Z
UID:kulvio-event-3052@kulvio.de
CATEGORIES:Party,Afterwork
CREATED:20260419T162302Z
DESCRIPTION:DJ Harry Hasenpflug legt bei der Afterworkparty in der Hugenot
 tenhalle Neu-Isenburg auf. Die Veranstaltung richtet sich an alle\, die na
 ch der Arbeit bei guter Musik und Getränken den Feierabend einläuten mö
 chten. Die Party beginnt um 18 Uhr und bietet eine Mischung aus aktuellen 
 Hits und Klassikern.
GEO:50.049785;8.696724
LAST-MODIFIED:20260419T163353Z
LOCATION:Hugenottenhalle\, Frankfurter Straße 152\, 63263\, Neu-Isenburg
STATUS:CONFIRMED
URL:https://kulvio.de/event/3052
END:VEVENT
END:VCALENDAR
