BEGIN:VCALENDAR
VERSION:2.0
PRODID:-//Kulvio Event Calendar//kulvio.de//
CALSCALE:GREGORIAN
METHOD:PUBLISH
BEGIN:VEVENT
SUMMARY:greenbeats — Momentum Tour 2026
DTSTART:20260516T170000Z
DTEND:20260516T180000Z
DTSTAMP:20260421T042309Z
UID:kulvio-event-3053@kulvio.de
CATEGORIES:Show
CREATED:20260419T162302Z
DESCRIPTION:Die Percussion-Show greenbeats gastiert mit ihrer Momentum Tou
 r in der Hugenottenhalle Neu-Isenburg. Die Gruppe verbindet Trommelkunst m
 it visuellen Effekten und einer mitreißenden Bühnenshow. Das Ensemble ha
 t sich als eine der aufregendsten Percussion-Formationen Deutschlands etab
 liert.
GEO:50.049785;8.696724
LAST-MODIFIED:20260419T163353Z
LOCATION:Hugenottenhalle\, Frankfurter Straße 152\, 63263\, Neu-Isenburg
STATUS:CONFIRMED
URL:https://kulvio.de/event/3053
END:VEVENT
END:VCALENDAR
