BEGIN:VCALENDAR
VERSION:2.0
PRODID:-//Kulvio Event Calendar//kulvio.de//
CALSCALE:GREGORIAN
METHOD:PUBLISH
BEGIN:VEVENT
SUMMARY:Ballett Gala Allegria 2026
DTSTART:20260606T140000Z
DTEND:20260606T150000Z
DTSTAMP:20260421T043153Z
UID:kulvio-event-3054@kulvio.de
CATEGORIES:Tanz,Show
CREATED:20260419T162302Z
DESCRIPTION:Die Ballett Gala Allegria präsentiert klassischen und moderne
 n Tanz in der Hugenottenhalle Neu-Isenburg. Die Gala vereint Tänzerinnen 
 und Tänzer verschiedener Stilrichtungen auf einer Bühne. Das Programm bi
 etet eine abwechslungsreiche Mischung aus Ballett\, zeitgenössischem Tanz
  und musikalischer Begleitung.
GEO:50.049785;8.696724
LAST-MODIFIED:20260419T163353Z
LOCATION:Hugenottenhalle\, Frankfurter Straße 152\, 63263\, Neu-Isenburg
STATUS:CONFIRMED
URL:https://kulvio.de/event/3054
END:VEVENT
END:VCALENDAR
