BEGIN:VCALENDAR
VERSION:2.0
PRODID:-//Kulvio Event Calendar//kulvio.de//
CALSCALE:GREGORIAN
METHOD:PUBLISH
BEGIN:VEVENT
SUMMARY:Krishna Das — Live in Concert 2026
DTSTART:20260721T180000Z
DTEND:20260721T190000Z
DTSTAMP:20260421T042425Z
UID:kulvio-event-3055@kulvio.de
CATEGORIES:Konzert
CREATED:20260419T162302Z
DESCRIPTION:Der Kirtan-Künstler Krishna Das gastiert mit einem Live-Konze
 rt in der Hugenottenhalle Neu-Isenburg. Krishna Das gilt als einer der bek
 anntesten westlichen Interpreten indischer Mantra-Musik und füllt weltwei
 t Konzerthallen. Das Konzert verbindet traditionelle indische Klänge mit 
 westlichen Musikelementen.
GEO:50.049785;8.696724
LAST-MODIFIED:20260419T163353Z
LOCATION:Hugenottenhalle\, Frankfurter Straße 152\, 63263\, Neu-Isenburg
STATUS:CONFIRMED
URL:https://kulvio.de/event/3055
END:VEVENT
END:VCALENDAR
