BEGIN:VCALENDAR
VERSION:2.0
PRODID:-//Kulvio Event Calendar//kulvio.de//
CALSCALE:GREGORIAN
METHOD:PUBLISH
BEGIN:VEVENT
SUMMARY:33. Neu-Isenburger Weinfest — Freitag\, 7. August
DTSTART:20260807T150000Z
DTEND:20260807T210000Z
DTSTAMP:20260421T042501Z
UID:kulvio-event-3056@kulvio.de
CATEGORIES:Festival,Tasting
CREATED:20260419T162302Z
DESCRIPTION:Das 33. Neu-Isenburger Weinfest wird am Freitag auf dem Rosena
 uplatz neben der Hugenottenhalle eröffnet. Täglich spielen Live-Bands ab
  17 Uhr auf der Bühne am Rosenauplatz neben der Hugenottenhalle. Zahlreic
 he Weinstände präsentieren Weine aus vielen Regionen Deutschlands und Ö
 sterreichs. Das Weinfest gehört zu den beliebtesten Sommerveranstaltungen
  in Neu-Isenburg.
GEO:50.049688;8.69579
LAST-MODIFIED:20260419T163353Z
LOCATION:Rosenauplatz\, 63263\, Neu-Isenburg
STATUS:CONFIRMED
URL:https://kulvio.de/event/3056
END:VEVENT
END:VCALENDAR
