BEGIN:VCALENDAR
VERSION:2.0
PRODID:-//Kulvio Event Calendar//kulvio.de//
CALSCALE:GREGORIAN
METHOD:PUBLISH
BEGIN:VEVENT
SUMMARY:33. Neu-Isenburger Weinfest — Montag\, 10. August
DTSTART:20260810T150000Z
DTEND:20260810T210000Z
DTSTAMP:20260421T042502Z
UID:kulvio-event-3059@kulvio.de
CATEGORIES:Festival,Tasting
CREATED:20260419T162302Z
DESCRIPTION:Das Weinfest auf dem Rosenauplatz bietet am Montag ab 17 Uhr L
 ive-Musik und Weine aus verschiedenen Regionen. Täglich spielen Live-Band
 s ab 17 Uhr auf der Bühne am Rosenauplatz neben der Hugenottenhalle. Zahl
 reiche Weinstände präsentieren Weine aus vielen Regionen Deutschlands un
 d Österreichs. Das Weinfest gehört zu den beliebtesten Sommerveranstaltu
 ngen in Neu-Isenburg.
GEO:50.049688;8.69579
LAST-MODIFIED:20260419T163353Z
LOCATION:Rosenauplatz\, 63263\, Neu-Isenburg
STATUS:CONFIRMED
URL:https://kulvio.de/event/3059
END:VEVENT
END:VCALENDAR
