BEGIN:VCALENDAR
VERSION:2.0
PRODID:-//Kulvio Event Calendar//kulvio.de//
CALSCALE:GREGORIAN
METHOD:PUBLISH
BEGIN:VEVENT
SUMMARY:33. Neu-Isenburger Weinfest — Mittwoch\, 12. August
DTSTART:20260812T150000Z
DTEND:20260812T210000Z
DTSTAMP:20260421T043143Z
UID:kulvio-event-3061@kulvio.de
CATEGORIES:Festival,Tasting
CREATED:20260419T162302Z
DESCRIPTION:Das Weinfest auf dem Rosenauplatz bietet am Mittwoch ab 17 Uhr
  Live-Musik und Weine aus verschiedenen Regionen. Täglich spielen Live-Ba
 nds ab 17 Uhr auf der Bühne am Rosenauplatz neben der Hugenottenhalle. Za
 hlreiche Weinstände präsentieren Weine aus vielen Regionen Deutschlands 
 und Österreichs. Das Weinfest gehört zu den beliebtesten Sommerveranstal
 tungen in Neu-Isenburg.
GEO:50.049688;8.69579
LAST-MODIFIED:20260419T163353Z
LOCATION:Rosenauplatz\, 63263\, Neu-Isenburg
STATUS:CONFIRMED
URL:https://kulvio.de/event/3061
END:VEVENT
END:VCALENDAR
