BEGIN:VCALENDAR
VERSION:2.0
PRODID:-//Kulvio Event Calendar//kulvio.de//
CALSCALE:GREGORIAN
METHOD:PUBLISH
BEGIN:VEVENT
SUMMARY:33. Neu-Isenburger Weinfest — Donnerstag\, 13. August
DTSTART:20260813T150000Z
DTEND:20260813T210000Z
DTSTAMP:20260421T042807Z
UID:kulvio-event-3062@kulvio.de
CATEGORIES:Festival,Tasting
CREATED:20260419T162302Z
DESCRIPTION:Das Weinfest auf dem Rosenauplatz bietet am Donnerstag ab 17 U
 hr Live-Musik und Weine aus verschiedenen Regionen. Täglich spielen Live-
 Bands ab 17 Uhr auf der Bühne am Rosenauplatz neben der Hugenottenhalle. 
 Zahlreiche Weinstände präsentieren Weine aus vielen Regionen Deutschland
 s und Österreichs. Das Weinfest gehört zu den beliebtesten Sommerveranst
 altungen in Neu-Isenburg.
GEO:50.049688;8.69579
LAST-MODIFIED:20260419T163353Z
LOCATION:Rosenauplatz\, 63263\, Neu-Isenburg
STATUS:CONFIRMED
URL:https://kulvio.de/event/3062
END:VEVENT
END:VCALENDAR
