BEGIN:VCALENDAR
VERSION:2.0
PRODID:-//Kulvio Event Calendar//kulvio.de//
CALSCALE:GREGORIAN
METHOD:PUBLISH
BEGIN:VEVENT
SUMMARY:33. Neu-Isenburger Weinfest — Freitag\, 14. August
DTSTART:20260814T150000Z
DTEND:20260814T210000Z
DTSTAMP:20260421T042122Z
UID:kulvio-event-3063@kulvio.de
CATEGORIES:Festival,Tasting
CREATED:20260419T162303Z
DESCRIPTION:Das Weinfest auf dem Rosenauplatz bietet am Freitag ab 17 Uhr 
 Live-Musik und Weine aus verschiedenen Regionen. Täglich spielen Live-Ban
 ds ab 17 Uhr auf der Bühne am Rosenauplatz neben der Hugenottenhalle. Zah
 lreiche Weinstände präsentieren Weine aus vielen Regionen Deutschlands u
 nd Österreichs. Das Weinfest gehört zu den beliebtesten Sommerveranstalt
 ungen in Neu-Isenburg.
GEO:50.049688;8.69579
LAST-MODIFIED:20260419T163353Z
LOCATION:Rosenauplatz\, 63263\, Neu-Isenburg
STATUS:CONFIRMED
URL:https://kulvio.de/event/3063
END:VEVENT
END:VCALENDAR
