BEGIN:VCALENDAR
VERSION:2.0
PRODID:-//Kulvio Event Calendar//kulvio.de//
CALSCALE:GREGORIAN
METHOD:PUBLISH
BEGIN:VEVENT
SUMMARY:33. Neu-Isenburger Weinfest — Samstag\, 15. August
DTSTART:20260815T150000Z
DTEND:20260815T215900Z
DTSTAMP:20260421T042123Z
UID:kulvio-event-3064@kulvio.de
CATEGORIES:Festival,Tasting
CREATED:20260419T162303Z
DESCRIPTION:Am Samstag lädt das Weinfest auf dem Rosenauplatz zum Genieß
 en von Weinen aus Deutschland und Österreich bei Live-Musik ein. Täglich
  spielen Live-Bands ab 17 Uhr auf der Bühne am Rosenauplatz neben der Hug
 enottenhalle. Zahlreiche Weinstände präsentieren Weine aus vielen Region
 en Deutschlands und Österreichs. Das Weinfest gehört zu den beliebtesten
  Sommerveranstaltungen in Neu-Isenburg.
GEO:50.049688;8.69579
LAST-MODIFIED:20260419T163353Z
LOCATION:Rosenauplatz\, 63263\, Neu-Isenburg
STATUS:CONFIRMED
URL:https://kulvio.de/event/3064
END:VEVENT
END:VCALENDAR
