BEGIN:VCALENDAR
VERSION:2.0
PRODID:-//Kulvio Event Calendar//kulvio.de//
CALSCALE:GREGORIAN
METHOD:PUBLISH
BEGIN:VEVENT
SUMMARY:33. Neu-Isenburger Weinfest — Sonntag\, 16. August
DTSTART:20260816T150000Z
DTEND:20260816T215900Z
DTSTAMP:20260421T042122Z
UID:kulvio-event-3065@kulvio.de
CATEGORIES:Festival,Tasting
CREATED:20260419T162303Z
DESCRIPTION:Am letzten Tag des 33. Weinfests auf dem Rosenauplatz klingt d
 as zehntägige Fest bei Wein und Live-Musik aus. Täglich spielen Live-Ban
 ds ab 17 Uhr auf der Bühne am Rosenauplatz neben der Hugenottenhalle. Zah
 lreiche Weinstände präsentieren Weine aus vielen Regionen Deutschlands u
 nd Österreichs. Das Weinfest gehört zu den beliebtesten Sommerveranstalt
 ungen in Neu-Isenburg.
GEO:50.049688;8.69579
LAST-MODIFIED:20260419T163353Z
LOCATION:Rosenauplatz\, 63263\, Neu-Isenburg
STATUS:CONFIRMED
URL:https://kulvio.de/event/3065
END:VEVENT
END:VCALENDAR
