BEGIN:VCALENDAR
VERSION:2.0
PRODID:-//Kulvio Event Calendar//kulvio.de//
CALSCALE:GREGORIAN
METHOD:PUBLISH
BEGIN:VEVENT
SUMMARY:36. Stadtteilfest Gravenbruch — Freitag
DTSTART:20260821T160000Z
DTEND:20260821T210000Z
DTSTAMP:20260421T042811Z
UID:kulvio-event-3066@kulvio.de
CATEGORIES:Stadtfest
CREATED:20260419T162303Z
DESCRIPTION:Am Freitag wird das 36. Stadtteilfest Gravenbruch feierlich er
 öffnet. Das Stadtteilfest im Neu-Isenburger Stadtteil Gravenbruch bietet 
 drei Tage lang Unterhaltung\, Musik und kulinarische Angebote. Die Veranst
 altung ist ein fester Bestandteil des Veranstaltungskalenders und bringt d
 ie Nachbarschaft zusammen.
GEO:50.050829;8.691944
LAST-MODIFIED:20260419T163353Z
LOCATION:Gravenbruch\, Neu-Isenburg\, 63263\, Neu-Isenburg
STATUS:CONFIRMED
URL:https://kulvio.de/event/3066
END:VEVENT
END:VCALENDAR
