BEGIN:VCALENDAR
VERSION:2.0
PRODID:-//Kulvio Event Calendar//kulvio.de//
CALSCALE:GREGORIAN
METHOD:PUBLISH
BEGIN:VEVENT
SUMMARY:36. Stadtteilfest Gravenbruch — Samstag
DTSTART:20260822T120000Z
DTEND:20260822T210000Z
DTSTAMP:20260421T042307Z
UID:kulvio-event-3067@kulvio.de
CATEGORIES:Stadtfest
CREATED:20260419T162303Z
DESCRIPTION:Am Samstag bietet das Stadtteilfest ein abwechslungsreiches Pr
 ogramm für die ganze Familie. Das Stadtteilfest im Neu-Isenburger Stadtte
 il Gravenbruch bietet drei Tage lang Unterhaltung\, Musik und kulinarische
  Angebote. Die Veranstaltung ist ein fester Bestandteil des Veranstaltungs
 kalenders und bringt die Nachbarschaft zusammen.
GEO:50.050829;8.691944
LAST-MODIFIED:20260419T163353Z
LOCATION:Gravenbruch\, Neu-Isenburg\, 63263\, Neu-Isenburg
STATUS:CONFIRMED
URL:https://kulvio.de/event/3067
END:VEVENT
END:VCALENDAR
