BEGIN:VCALENDAR
VERSION:2.0
PRODID:-//Kulvio Event Calendar//kulvio.de//
CALSCALE:GREGORIAN
METHOD:PUBLISH
BEGIN:VEVENT
SUMMARY:36. Stadtteilfest Gravenbruch — Sonntag
DTSTART:20260823T090000Z
DTEND:20260823T170000Z
DTSTAMP:20260421T042436Z
UID:kulvio-event-3068@kulvio.de
CATEGORIES:Stadtfest
CREATED:20260419T162303Z
DESCRIPTION:Am Sonntag klingt das Stadtteilfest Gravenbruch mit einem gem
 ütlichen Ausklang und Programm für alle Altersgruppen aus. Das Stadtteil
 fest im Neu-Isenburger Stadtteil Gravenbruch bietet drei Tage lang Unterha
 ltung\, Musik und kulinarische Angebote. Die Veranstaltung ist ein fester 
 Bestandteil des Veranstaltungskalenders und bringt die Nachbarschaft zusam
 men.
GEO:50.050829;8.691944
LAST-MODIFIED:20260419T163353Z
LOCATION:Gravenbruch\, Neu-Isenburg\, 63263\, Neu-Isenburg
STATUS:CONFIRMED
URL:https://kulvio.de/event/3068
END:VEVENT
END:VCALENDAR
