BEGIN:VCALENDAR
VERSION:2.0
PRODID:-//Kulvio Event Calendar//kulvio.de//
CALSCALE:GREGORIAN
METHOD:PUBLISH
BEGIN:VEVENT
SUMMARY:Bäppi la Belle in der Hugenottenhalle
DTSTART:20260905T173000Z
DTEND:20260905T183000Z
DTSTAMP:20260421T042120Z
UID:kulvio-event-3069@kulvio.de
CATEGORIES:Comedy,Show
CREATED:20260419T162303Z
DESCRIPTION:Der Frankfurter Entertainer Bäppi la Belle gastiert in der Hu
 genottenhalle Neu-Isenburg. Bäppi verbindet Travestie mit Comedy und hess
 ischer Geschichte zu einer mitreißenden Bühnenshow. Der Abend verspricht
  Unterhaltung auf höchstem Niveau mit Humor\, Musik und Glamour.
GEO:50.049785;8.696724
LAST-MODIFIED:20260419T163353Z
LOCATION:Hugenottenhalle\, Frankfurter Straße 152\, 63263\, Neu-Isenburg
STATUS:CONFIRMED
URL:https://kulvio.de/event/3069
END:VEVENT
END:VCALENDAR
