BEGIN:VCALENDAR
VERSION:2.0
PRODID:-//Kulvio Event Calendar//kulvio.de//
CALSCALE:GREGORIAN
METHOD:PUBLISH
BEGIN:VEVENT
SUMMARY:Floh- und Trödelmarkt September
DTSTART:20260905T070000Z
DTEND:20260905T110000Z
DTSTAMP:20260421T035131Z
UID:kulvio-event-3070@kulvio.de
CATEGORIES:Flohmarkt
CREATED:20260419T162303Z
DESCRIPTION:Der monatliche Floh- und Trödelmarkt in der Hugenottenhalle b
 ietet im September wieder Gelegenheit zum Stöbern und Feilschen. Bücher\
 , Spielzeug\, Kleidung und Sammlerstücke wechseln den Besitzer. Der Markt
  öffnet von 9 bis 13 Uhr.
GEO:50.049785;8.696724
LAST-MODIFIED:20260419T163353Z
LOCATION:Hugenottenhalle\, Frankfurter Straße 152\, 63263\, Neu-Isenburg
STATUS:CONFIRMED
URL:https://kulvio.de/event/3070
END:VEVENT
END:VCALENDAR
