BEGIN:VCALENDAR
VERSION:2.0
PRODID:-//Kulvio Event Calendar//kulvio.de//
CALSCALE:GREGORIAN
METHOD:PUBLISH
BEGIN:VEVENT
SUMMARY:49. Internationaler Hugenottenlauf
DTSTART:20260920T070000Z
DTEND:20260920T080000Z
DTSTAMP:20260421T042010Z
UID:kulvio-event-3071@kulvio.de
CATEGORIES:Laufsport,Wettkampf
CREATED:20260419T162303Z
DESCRIPTION:Der 49. Internationale Hugenottenlauf führt durch Neu-Isenbur
 g und gehört zu den traditionsreichsten Laufveranstaltungen der Region. L
 äufer aller Leistungsstufen nehmen an verschiedenen Distanzen teil und la
 ufen durch die Straßen der Stadt. Der Start- und Zielbereich befindet sic
 h am Sportpark.
GEO:50.054882;8.676167
LAST-MODIFIED:20260419T163353Z
LOCATION:Sportpark\, Alicestraße\, 63263\, Neu-Isenburg
STATUS:CONFIRMED
URL:https://kulvio.de/event/3071
END:VEVENT
END:VCALENDAR
