BEGIN:VCALENDAR
VERSION:2.0
PRODID:-//Kulvio Event Calendar//kulvio.de//
CALSCALE:GREGORIAN
METHOD:PUBLISH
BEGIN:VEVENT
SUMMARY:Floh- und Trödelmarkt Oktober
DTSTART:20261010T070000Z
DTEND:20261010T110000Z
DTSTAMP:20260421T042122Z
UID:kulvio-event-3072@kulvio.de
CATEGORIES:Flohmarkt
CREATED:20260419T162303Z
DESCRIPTION:Der monatliche Floh- und Trödelmarkt lädt auch im Oktober zu
 m Stöbern in die Hugenottenhalle Neu-Isenburg ein. Private und gewerblich
 e Anbieter verkaufen Gebrauchtwaren\, Raritäten und Alltagsgegenstände. 
 Der Markt öffnet von 9 bis 13 Uhr.
GEO:50.049785;8.696724
LAST-MODIFIED:20260419T163353Z
LOCATION:Hugenottenhalle\, Frankfurter Straße 152\, 63263\, Neu-Isenburg
STATUS:CONFIRMED
URL:https://kulvio.de/event/3072
END:VEVENT
END:VCALENDAR
