BEGIN:VCALENDAR
VERSION:2.0
PRODID:-//Kulvio Event Calendar//kulvio.de//
CALSCALE:GREGORIAN
METHOD:PUBLISH
BEGIN:VEVENT
SUMMARY:Maite Itoiz und John Kelly — Best of 20 Years Anniversary Tour 2
 026
DTSTART:20261013T180000Z
DTEND:20261013T190000Z
DTSTAMP:20260421T042010Z
UID:kulvio-event-3073@kulvio.de
CATEGORIES:Konzert
CREATED:20260419T162303Z
DESCRIPTION:Maite Itoiz und John Kelly feiern mit ihrer Anniversary Tour 2
 0 Jahre gemeinsames musikalisches Schaffen in der Hugenottenhalle Neu-Isen
 burg. Die beiden Mitglieder der Kelly Family präsentieren die besten Song
 s aus zwei Jahrzehnten. Das Konzert verspricht einen emotionalen Abend mit
  Pop\, Folk und irischen Klängen.
GEO:50.049785;8.696724
LAST-MODIFIED:20260419T163353Z
LOCATION:Hugenottenhalle\, Frankfurter Straße 152\, 63263\, Neu-Isenburg
STATUS:CONFIRMED
URL:https://kulvio.de/event/3073
END:VEVENT
END:VCALENDAR
