BEGIN:VCALENDAR
VERSION:2.0
PRODID:-//Kulvio Event Calendar//kulvio.de//
CALSCALE:GREGORIAN
METHOD:PUBLISH
BEGIN:VEVENT
SUMMARY:Fäaschtbänkler in der Hugenottenhalle
DTSTART:20261030T183000Z
DTEND:20261030T193000Z
DTSTAMP:20260421T042312Z
UID:kulvio-event-3074@kulvio.de
CATEGORIES:Konzert,Party
CREATED:20260419T162303Z
DESCRIPTION:Die Band Fäaschtbänkler gastiert in der Hugenottenhalle Neu-
 Isenburg. Die Musiker sind bekannt für ihre energiegeladene Mischung aus 
 Volksmusik\, Rock und Pop mit bayerischem Charme. Die Fäaschtbänkler ver
 binden traditionelle Instrumente mit modernen Sounds und sorgen für ausge
 lassene Partystimmung.
GEO:50.049785;8.696724
LAST-MODIFIED:20260419T163353Z
LOCATION:Hugenottenhalle\, Frankfurter Straße 152\, 63263\, Neu-Isenburg
STATUS:CONFIRMED
URL:https://kulvio.de/event/3074
END:VEVENT
END:VCALENDAR
