BEGIN:VCALENDAR
VERSION:2.0
PRODID:-//Kulvio Event Calendar//kulvio.de//
CALSCALE:GREGORIAN
METHOD:PUBLISH
BEGIN:VEVENT
SUMMARY:19. Hugenotten-Duathlon
DTSTART:20261101T080000Z
DTEND:20261101T090000Z
DTSTAMP:20260421T042429Z
UID:kulvio-event-3075@kulvio.de
CATEGORIES:Laufsport,Wettkampf
CREATED:20260419T162303Z
DESCRIPTION:Der 19. Hugenotten-Duathlon führt Athleten durch Neu-Isenburg
  und kombiniert Laufen und Radfahren. Die Veranstaltung am Sportpark zieht
  Sportler aus der gesamten Region an und bietet verschiedene Distanzen fü
 r unterschiedliche Leistungsstufen. Der Duathlon gehört seit Jahren zum f
 esten Sportkalender der Stadt.
GEO:50.054882;8.676167
LAST-MODIFIED:20260419T163353Z
LOCATION:Sportpark\, Alicestraß\, 63263\, Neu-Isenburg
STATUS:CONFIRMED
URL:https://kulvio.de/event/3075
END:VEVENT
END:VCALENDAR
