BEGIN:VCALENDAR
VERSION:2.0
PRODID:-//Kulvio Event Calendar//kulvio.de//
CALSCALE:GREGORIAN
METHOD:PUBLISH
BEGIN:VEVENT
SUMMARY:Yakari — Freunde fürs Leben (Musical)
DTSTART:20261104T153000Z
DTEND:20261104T163000Z
DTSTAMP:20260421T042009Z
UID:kulvio-event-3076@kulvio.de
CATEGORIES:Musical,Kindertheater
CREATED:20260419T162303Z
DESCRIPTION:Das Kindermusical Yakari — Freunde fürs Leben gastiert in d
 er Hugenottenhalle Neu-Isenburg. Die beliebte Zeichentrickfigur Yakari erl
 ebt auf der Bühne ein spannendes Abenteuer über Freundschaft und Natur. 
 Das Musical richtet sich an Familien mit Kindern und bietet eine farbenfro
 he Show mit Musik und Tanz.
GEO:50.049785;8.696724
LAST-MODIFIED:20260419T163353Z
LOCATION:Hugenottenhalle\, Frankfurter Straße 152\, 63263\, Neu-Isenburg
STATUS:CONFIRMED
URL:https://kulvio.de/event/3076
END:VEVENT
END:VCALENDAR
