BEGIN:VCALENDAR
VERSION:2.0
PRODID:-//Kulvio Event Calendar//kulvio.de//
CALSCALE:GREGORIAN
METHOD:PUBLISH
BEGIN:VEVENT
SUMMARY:Take It To The Limit — A Celebration Of The Eagles
DTSTART:20261106T190000Z
DTEND:20261106T200000Z
DTSTAMP:20260421T042311Z
UID:kulvio-event-3077@kulvio.de
CATEGORIES:Konzert
CREATED:20260419T162303Z
DESCRIPTION:Die Tributeband Take It To The Limit widmet sich dem musikalis
 chen Erbe der legendären Eagles und gastiert in der Hugenottenhalle Neu-I
 senburg. Das Konzert präsentiert die größten Hits wie Hotel California\
 , Desperado und Take It Easy in originalgetreuer Besetzung. Ein Abend für
  Fans amerikanischer Rockmusik der 70er und 80er Jahre.
GEO:50.049785;8.696724
LAST-MODIFIED:20260419T163353Z
LOCATION:Hugenottenhalle\, Frankfurter Straße 152\, 63263\, Neu-Isenburg
STATUS:CONFIRMED
URL:https://kulvio.de/event/3077
END:VEVENT
END:VCALENDAR
