BEGIN:VCALENDAR
VERSION:2.0
PRODID:-//Kulvio Event Calendar//kulvio.de//
CALSCALE:GREGORIAN
METHOD:PUBLISH
BEGIN:VEVENT
SUMMARY:Flohmarktine November — Mode\, Vintage und Accessoires
DTSTART:20261114T130000Z
DTEND:20261114T170000Z
DTSTAMP:20260421T042433Z
UID:kulvio-event-3078@kulvio.de
CATEGORIES:Flohmarkt
CREATED:20260419T162303Z
DESCRIPTION:Die Flohmarktine lädt im November erneut zum Stöbern in der 
 Hugenottenhalle Neu-Isenburg ein. Der spezielle Frauen-Flohmarkt bietet Mo
 de\, Vintage-Kleidung und Accessoires zu günstigen Preisen. Von Designers
 tücken bis zu Second-Hand-Schätzen findet jede Besucherin etwas Passende
 s.
GEO:50.049785;8.696724
LAST-MODIFIED:20260419T163353Z
LOCATION:Hugenottenhalle\, Frankfurter Straße 152\, 63263\, Neu-Isenburg
STATUS:CONFIRMED
URL:https://kulvio.de/event/3078
END:VEVENT
END:VCALENDAR
