BEGIN:VCALENDAR
VERSION:2.0
PRODID:-//Kulvio Event Calendar//kulvio.de//
CALSCALE:GREGORIAN
METHOD:PUBLISH
BEGIN:VEVENT
SUMMARY:Floh- und Trödelmarkt November
DTSTART:20261122T080000Z
DTEND:20261122T120000Z
DTSTAMP:20260421T034740Z
UID:kulvio-event-3079@kulvio.de
CATEGORIES:Flohmarkt
CREATED:20260419T162303Z
DESCRIPTION:Der monatliche Floh- und Trödelmarkt in der Hugenottenhalle b
 ietet im November noch einmal Gelegenheit\, vor der Weihnachtszeit Schnäp
 pchen zu machen. Private und gewerbliche Anbieter verkaufen Gebrauchtwaren
 \, Bücher und Spielzeug. Der Markt öffnet von 9 bis 13 Uhr.
GEO:50.049785;8.696724
LAST-MODIFIED:20260419T163353Z
LOCATION:Hugenottenhalle\, Frankfurter Straße 152\, 63263\, Neu-Isenburg
STATUS:CONFIRMED
URL:https://kulvio.de/event/3079
END:VEVENT
END:VCALENDAR
