BEGIN:VCALENDAR
VERSION:2.0
PRODID:-//Kulvio Event Calendar//kulvio.de//
CALSCALE:GREGORIAN
METHOD:PUBLISH
BEGIN:VEVENT
SUMMARY:Weihnachtsmarkt im Alten Ort — Samstag
DTSTART:20261205T140000Z
DTEND:20261205T200000Z
DTSTAMP:20260421T042424Z
UID:kulvio-event-3080@kulvio.de
CATEGORIES:Weihnachtsmarkt
CREATED:20260419T162303Z
DESCRIPTION:Der Weihnachtsmarkt im Alten Ort von Neu-Isenburg öffnet am z
 weiten Adventswochenende seine Pforten. In vierzig eigens aufgebauten Holz
 hütten präsentieren Vereine und Kirchen Kunsthandwerk und kulinarische S
 pezialitäten. Das Stadtmuseum Haus zum Löwen zeigt Weihnachtliches und l
 ädt zum großen Kunst- und Handwerkermarkt. Auch der Hugenottenmarkt in d
 er Pfarrgasse gehört zum Programm.
GEO:50.05666;8.695181
LAST-MODIFIED:20260419T163353Z
LOCATION:Frankfurter Straße\, Alter Ort\, 63263\, Neu-Isenburg
STATUS:CONFIRMED
URL:https://kulvio.de/event/3080
END:VEVENT
END:VCALENDAR
