BEGIN:VCALENDAR
VERSION:2.0
PRODID:-//Kulvio Event Calendar//kulvio.de//
CALSCALE:GREGORIAN
METHOD:PUBLISH
BEGIN:VEVENT
SUMMARY:Weihnachtsmarkt im Alten Ort — Sonntag
DTSTART:20261206T140000Z
DTEND:20261206T190000Z
DTSTAMP:20260421T042947Z
UID:kulvio-event-3081@kulvio.de
CATEGORIES:Weihnachtsmarkt
CREATED:20260419T162303Z
DESCRIPTION:Am Sonntag empfängt der Weihnachtsmarkt im Alten Ort die Besu
 cher erneut mit vorweihnachtlicher Atmosphäre in den Gassen des historisc
 hen Ortskerns. Vereine\, Kirchen und Aussteller aus der Partnerstadt Weida
  bieten Kunsthandwerk und Leckereien an. Der Hugenottenmarkt in der Pfarrg
 asse und der Kunst- und Handwerkermarkt im Haus zum Löwen ergänzen das P
 rogramm.
GEO:50.05666;8.695181
LAST-MODIFIED:20260419T163353Z
LOCATION:Frankfurter Straße\, Alter Ort\, 63263\, Neu-Isenburg
STATUS:CONFIRMED
URL:https://kulvio.de/event/3081
END:VEVENT
END:VCALENDAR
