BEGIN:VCALENDAR
VERSION:2.0
PRODID:-//Kulvio Event Calendar//kulvio.de//
CALSCALE:GREGORIAN
METHOD:PUBLISH
BEGIN:VEVENT
SUMMARY:Tabaluga und Lilli — Das drachenstarke Musical
DTSTART:20261220T150000Z
DTEND:20261220T160000Z
DTSTAMP:20260421T042312Z
UID:kulvio-event-3082@kulvio.de
CATEGORIES:Musical,Kindertheater
CREATED:20260419T162303Z
DESCRIPTION:Das Familienmusical Tabaluga und Lilli gastiert in der Hugenot
 tenhalle Neu-Isenburg. Die Geschichte des kleinen Drachen Tabaluga\, der g
 emeinsam mit Lilli spannende Abenteuer erlebt\, wird mit Musik\, Tanz und 
 aufwendigen Bühnenbildern erzählt. Das Musical richtet sich an Familien 
 mit Kindern und bietet eine fantasievolle Show.
GEO:50.049785;8.696724
LAST-MODIFIED:20260419T163353Z
LOCATION:Hugenottenhalle\, Frankfurter Straße 152\, 63263\, Neu-Isenburg
STATUS:CONFIRMED
URL:https://kulvio.de/event/3082
END:VEVENT
END:VCALENDAR
