BEGIN:VCALENDAR
VERSION:2.0
PRODID:-//Kulvio Event Calendar//kulvio.de//
CALSCALE:GREGORIAN
METHOD:PUBLISH
BEGIN:VEVENT
SUMMARY:Open Bar im LSKH Queeres Kulturhaus
DTSTART:20260425T170000Z
DTEND:20260425T180000Z
DTSTAMP:20260421T042122Z
UID:kulvio-event-3083@kulvio.de
CATEGORIES:LGBTQIA+,FLINTA*,Afterwork
CREATED:20260419T174735Z
DESCRIPTION:Das LSKH Queeres Kulturhaus in der Klingerstraße lädt zur Op
 en Bar Night ein. Der Abend bietet entspannte Musik von DJ Andilicious und
  eine offene Atmosphäre zum Netzwerken und Feiern. Das LSKH ist ein Safe 
 Space für die LGBTQIA+-Community\, FLINTA*-Personen und Allies. Der Zugan
 g ist rollstuhlgerecht.
GEO:50.113041;8.689375
LAST-MODIFIED:20260419T174823Z
LOCATION:LSKH Queeres Kulturhaus\, Klingerstraße 6\, 60313\, Frankfurt am
  Main
STATUS:CONFIRMED
URL:https://kulvio.de/event/3083
END:VEVENT
END:VCALENDAR
