BEGIN:VCALENDAR
VERSION:2.0
PRODID:-//Kulvio Event Calendar//kulvio.de//
CALSCALE:GREGORIAN
METHOD:PUBLISH
BEGIN:VEVENT
SUMMARY:Party Flinta*&Friends — Tanz in den Mai Edition
DTSTART:20260430T180000Z
DTEND:20260430T190000Z
DTSTAMP:20260421T042310Z
UID:kulvio-event-3084@kulvio.de
CATEGORIES:FLINTA*,Party,LGBTQIA+
CREATED:20260419T174735Z
DESCRIPTION:Das LSKH und der Kunstverein Montez laden zur Tanz-in-den-Mai-
 Party für FLINTA*-Personen und deren Allies ein. DJs Andilicious und Emma
  sorgen für tanzbare Sounds in der Location Montez an der Honsellstraße.
  Der Abend steht im Zeichen von Community\, Sichtbarkeit und Tanzfreude. E
 intritt auf Solidaritätsbasis.
GEO:50.108303;8.710053
LAST-MODIFIED:20260419T174823Z
LOCATION:Montez\, Honsellstraße 7\, 60314\, Frankfurt am Main
STATUS:CONFIRMED
URL:https://kulvio.de/event/3084
END:VEVENT
END:VCALENDAR
