BEGIN:VCALENDAR
VERSION:2.0
PRODID:-//Kulvio Event Calendar//kulvio.de//
CALSCALE:GREGORIAN
METHOD:PUBLISH
BEGIN:VEVENT
SUMMARY:Communitybrunch im LSKH
DTSTART:20260510T090000Z
DTEND:20260510T120000Z
DTSTAMP:20260421T034734Z
UID:kulvio-event-3087@kulvio.de
CATEGORIES:LGBTQIA+,Brunch,FLINTA*
CREATED:20260419T174736Z
DESCRIPTION:Jeden Sonntag lädt das LSKH Queeres Kulturhaus zum Communityb
 runch ein. Ab 11 Uhr steht ein Buffet mit Kaffee und Tee bereit. Der Brunc
 h ist offen für alle und bietet einen entspannten Rahmen zum Kennenlernen
  und Austauschen in einem inklusiven Umfeld für die LGBTQIA+-Community un
 d Verbündete.
GEO:50.113041;8.689375
LAST-MODIFIED:20260419T174823Z
LOCATION:LSKH Queeres Kulturhaus\, Klingerstraße 6\, 60313\, Frankfurt am
  Main
STATUS:CONFIRMED
URL:https://kulvio.de/event/3087
END:VEVENT
END:VCALENDAR
