BEGIN:VCALENDAR
VERSION:2.0
PRODID:-//Kulvio Event Calendar//kulvio.de//
CALSCALE:GREGORIAN
METHOD:PUBLISH
BEGIN:VEVENT
SUMMARY:Queer Book Club im LSKH
DTSTART:20260525T170000Z
DTEND:20260525T190000Z
DTSTAMP:20260421T042435Z
UID:kulvio-event-3093@kulvio.de
CATEGORIES:LGBTQIA+,Meetup
CREATED:20260419T174736Z
DESCRIPTION:Der Queer Book Club trifft sich monatlich im LSKH Queeres Kult
 urhaus. Die Leserunde behandelt Literatur mit Bezug zu Feminismus und der 
 LGBTQIA+-Community. Die Diskussion findet auf Englisch statt. Der Book Clu
 b ist offen für alle Personen aus der LGBTQIA+-Community und bietet Raum 
 für Austausch und Vernetzung.
GEO:50.113041;8.689375
LAST-MODIFIED:20260419T174823Z
LOCATION:LSKH Queeres Kulturhaus\, Klingerstraße 6\, 60313\, Frankfurt am
  Main
STATUS:CONFIRMED
URL:https://kulvio.de/event/3093
END:VEVENT
END:VCALENDAR
