BEGIN:VCALENDAR
VERSION:2.0
PRODID:-//Kulvio Event Calendar//kulvio.de//
CALSCALE:GREGORIAN
METHOD:PUBLISH
BEGIN:VEVENT
SUMMARY:Kruder & Dorfmeister – K&D Kicks 30 Anniversary Tour
DTSTART:20260421T180000Z
DTEND:20260421T190000Z
DTSTAMP:20260421T042432Z
UID:kulvio-event-3094@kulvio.de
CATEGORIES:Konzert,Club
CREATED:20260419T174933Z
DESCRIPTION:Das legendäre Duo Kruder & Dorfmeister gastiert im Zoom Frank
 furt mit ihrer K&D Kicks 30 Anniversary Tour. Die österreichischen Produz
 enten Peter Kruder und Richard Dorfmeister feiern damit das Jubiläum ihre
 s wegweisenden Albums\, das die elektronische Musikszene Ende der 1990er J
 ahre maßgeblich geprägt hat. Fans von Downtempo\, Trip-Hop und elektroni
 scher Musik erwartet ein Abend mit den Klassikern des Duos in einem der et
 ablierten Frankfurter Clubs.
GEO:50.121618;8.750517
LAST-MODIFIED:20260419T175000Z
LOCATION:ZOOM Frankfurt\, Carl-Benz-Str. 21\, 60386\, Frankfurt am Main
STATUS:CONFIRMED
URL:https://kulvio.de/event/3094
END:VEVENT
END:VCALENDAR
