BEGIN:VCALENDAR
VERSION:2.0
PRODID:-//Kulvio Event Calendar//kulvio.de//
CALSCALE:GREGORIAN
METHOD:PUBLISH
BEGIN:VEVENT
SUMMARY:DEKKER – Neither up nor down Tour 2026
DTSTART:20260422T180000Z
DTEND:20260422T190000Z
DTSTAMP:20260421T041935Z
UID:kulvio-event-3095@kulvio.de
CATEGORIES:Konzert
CREATED:20260419T174933Z
DESCRIPTION:Der Künstler DEKKER bringt seine Neither up nor down Tour 202
 6 ins Zoom Frankfurt. Die Tour präsentiert neue Tracks und bewährte Hits
  in einem energiegeladenen Live-Set. Das Zoom bietet mit seiner modernen A
 usstattung die passende Bühne für diesen Auftritt. Der Abend richtet sic
 h an Fans zeitgenössischer Musik\, die eine intime Club-Atmosphäre schä
 tzen.
GEO:50.121618;8.750517
LAST-MODIFIED:20260419T175000Z
LOCATION:ZOOM Frankfurt\, Carl-Benz-Str. 21\, 60386\, Frankfurt am Main
STATUS:CONFIRMED
URL:https://kulvio.de/event/3095
END:VEVENT
END:VCALENDAR
