BEGIN:VCALENDAR
VERSION:2.0
PRODID:-//Kulvio Event Calendar//kulvio.de//
CALSCALE:GREGORIAN
METHOD:PUBLISH
BEGIN:VEVENT
SUMMARY:1VERSE – 1VERSE EU Tour
DTSTART:20260423T180000Z
DTEND:20260423T190000Z
DTSTAMP:20260421T035111Z
UID:kulvio-event-3096@kulvio.de
CATEGORIES:Konzert
CREATED:20260419T174933Z
DESCRIPTION:1VERSE kommt im Rahmen der europäischen Tour ins Zoom Frankfu
 rt. Der Auftritt verspricht einen abwechslungsreichen Abend mit internatio
 naler Musik in Club-Atmosphäre. Das Zoom in Frankfurt-Fechenheim ist beka
 nnt für seine vielfältige Programmgestaltung\, die von Hip-Hop über Pop
  bis zu elektronischer Musik reicht. Einlass ist ab 20 Uhr.
GEO:50.121618;8.750517
LAST-MODIFIED:20260419T175000Z
LOCATION:ZOOM Frankfurt\, Carl-Benz-Str. 21\, 60386\, Frankfurt am Main
STATUS:CONFIRMED
URL:https://kulvio.de/event/3096
END:VEVENT
END:VCALENDAR
