BEGIN:VCALENDAR
VERSION:2.0
PRODID:-//Kulvio Event Calendar//kulvio.de//
CALSCALE:GREGORIAN
METHOD:PUBLISH
BEGIN:VEVENT
SUMMARY:Paula Carolina – Ich war hier Tour 2026
DTSTART:20260424T170000Z
DTEND:20260424T180000Z
DTSTAMP:20260421T042010Z
UID:kulvio-event-3097@kulvio.de
CATEGORIES:Konzert
CREATED:20260419T174933Z
DESCRIPTION:Die Sängerin Paula Carolina präsentiert ihre Ich war hier To
 ur 2026 im Zoom Frankfurt. Die Tour begleitet ihr aktuelles Programm mit d
 eutschsprachigen Songs\, die persönliche Geschichten und Emotionen verbin
 den. Das Konzert beginnt um 19 Uhr und bietet dem Publikum einen Abend mit
  nachdenklichen und energiegeladenen Momenten in der Halle des Zoom.
GEO:50.121618;8.750517
LAST-MODIFIED:20260419T175000Z
LOCATION:ZOOM Frankfurt\, Carl-Benz-Str. 21\, 60386\, Frankfurt am Main
STATUS:CONFIRMED
URL:https://kulvio.de/event/3097
END:VEVENT
END:VCALENDAR
