BEGIN:VCALENDAR
VERSION:2.0
PRODID:-//Kulvio Event Calendar//kulvio.de//
CALSCALE:GREGORIAN
METHOD:PUBLISH
BEGIN:VEVENT
SUMMARY:Super Single Party – Alles für die Liebe
DTSTART:20260424T200000Z
DTEND:20260424T210000Z
DTSTAMP:20260421T042428Z
UID:kulvio-event-3098@kulvio.de
CATEGORIES:Party,Club
CREATED:20260419T174933Z
DESCRIPTION:Die Super Single Party im Zoom Frankfurt steht unter dem Motto
  Alles für die Liebe. Das Format bringt Singles in lockerer Club-Atmosph
 äre zusammen\, begleitet von DJ-Musik und Drinks. Die Veranstaltung start
 et um 22 Uhr und richtet sich an alle\, die neue Menschen kennenlernen mö
 chten. Das Zoom bietet mit seinen zwei Floors genug Platz zum Tanzen und U
 nterhalten.
GEO:50.121618;8.750517
LAST-MODIFIED:20260419T175000Z
LOCATION:ZOOM Frankfurt\, Carl-Benz-Str. 21\, 60386\, Frankfurt am Main
STATUS:CONFIRMED
URL:https://kulvio.de/event/3098
END:VEVENT
END:VCALENDAR
