BEGIN:VCALENDAR
VERSION:2.0
PRODID:-//Kulvio Event Calendar//kulvio.de//
CALSCALE:GREGORIAN
METHOD:PUBLISH
BEGIN:VEVENT
SUMMARY:Matteo Mancuso – Route96 Tour
DTSTART:20260425T173000Z
DTEND:20260425T183000Z
DTSTAMP:20260421T034740Z
UID:kulvio-event-3099@kulvio.de
CATEGORIES:Konzert
CREATED:20260419T174933Z
DESCRIPTION:Der sizilianische Gitarrist Matteo Mancuso gastiert mit seiner
  Route96 Tour im Zoom Frankfurt. Mancuso hat sich durch seine virtuose Fin
 gerpicking-Technik und sein Fusionspiel international einen Namen gemacht.
  Das Konzert beginnt um 19:30 Uhr und verspricht einen Abend auf höchstem
  musikalischen Niveau für Fans von Jazz\, Fusion und Progressive Rock.
GEO:50.121618;8.750517
LAST-MODIFIED:20260419T175000Z
LOCATION:ZOOM Frankfurt\, Carl-Benz-Str. 21\, 60386\, Frankfurt am Main
STATUS:CONFIRMED
URL:https://kulvio.de/event/3099
END:VEVENT
END:VCALENDAR
