BEGIN:VCALENDAR
VERSION:2.0
PRODID:-//Kulvio Event Calendar//kulvio.de//
CALSCALE:GREGORIAN
METHOD:PUBLISH
BEGIN:VEVENT
SUMMARY:Morecore Party auf 2 Floors
DTSTART:20260425T210000Z
DTEND:20260425T220000Z
DTSTAMP:20260421T035330Z
UID:kulvio-event-3100@kulvio.de
CATEGORIES:Party,Club
CREATED:20260419T174933Z
DESCRIPTION:Die Morecore Party bringt Alternative\, Rock und verwandte Gen
 res auf zwei Floors im Zoom Frankfurt. Die Reihe ist bekannt für ihre Mis
 chung aus Metalcore\, Punk\, Pop-Punk und Alternative Rock\, begleitet von
  DJs\, die die passenden Tracks auflegen. Der Abend startet um 23 Uhr und 
 richtet sich an Fans härterer Gitarrenmusik\, die tanzen und feiern wolle
 n.
GEO:50.121618;8.750517
LAST-MODIFIED:20260419T175000Z
LOCATION:ZOOM Frankfurt\, Carl-Benz-Str. 21\, 60386\, Frankfurt am Main
STATUS:CONFIRMED
URL:https://kulvio.de/event/3100
END:VEVENT
END:VCALENDAR
