BEGIN:VCALENDAR
VERSION:2.0
PRODID:-//Kulvio Event Calendar//kulvio.de//
CALSCALE:GREGORIAN
METHOD:PUBLISH
BEGIN:VEVENT
SUMMARY:LVBEL C5 – Fellas Tour
DTSTART:20260426T180000Z
DTEND:20260426T190000Z
DTSTAMP:20260421T042309Z
UID:kulvio-event-3101@kulvio.de
CATEGORIES:Konzert
CREATED:20260419T174933Z
DESCRIPTION:Der türkische Rapper LVBEL C5 kommt mit seiner Fellas Tour in
 s Zoom Frankfurt. Der Künstler hat sich in der türkischen Hip-Hop-Szene 
 einen Namen gemacht und bringt seine Hits live auf die Bühne. Das Konzert
  beginnt um 20 Uhr und richtet sich an Fans türkischsprachiger Rap-Musik.
  Das Zoom ist mit seiner Kapazität und Soundanlage ideal für Hip-Hop-Sho
 ws geeignet.
GEO:50.121618;8.750517
LAST-MODIFIED:20260419T175000Z
LOCATION:ZOOM Frankfurt\, Carl-Benz-Str. 21\, 60386\, Frankfurt am Main
STATUS:CONFIRMED
URL:https://kulvio.de/event/3101
END:VEVENT
END:VCALENDAR
